BEGIN:VCALENDAR
VERSION:2.0
CALSCALE:GREGORIAN
PRODID:-//MyApp//Calendar 1.0//EN
BEGIN:VEVENT
METHOD:PUBLISH
UID:43857@regionalniportaly.cz
DTSTAMP:20260422T070028Z
DTSTART;VALUE=DATE:20240719
DTEND;VALUE=DATE:20240720
SUMMARY:Umění jíst a milovat - Letní kino Litoměřice
DESCRIPTION:Francie\, 2023\, 134 minRežie: Anh Hung Tran&nbsp\;Píše se rok 1885. V&nbsp\;rozlehlém domě v&nbsp\;údolí Loiry začíná další den a kuchařka Eugénie (Juliette Binoche) od časného rána pobíhá v&nbsp\;kuchyni. Její jedinečný talent a láska k&nbsp\;vaření dávají vzniknout neuvěřitelně chutným pokrmům. Posledních 20 let pracovala pro slavného gurmána Dodina (Benoît Magimel). Společně hledají a nalézají nové\, neotřelé recepty\, zkoumají chutě a sdílejí lásku ke gastronomii. Během let mezi nimi vzniklo silné pouto ovoněné upřímnou láskou.&nbsp\;Dodin by byl rád\, kdyby se Eugénie stala jeho ženou. Ta ale zarputile odmítá\, nechce ztratit svobodu. Vždyť jejich soužití je takto dokonalé. Tráví spolu dlouhý čas\, zkoumají a hledají recepty. Není to lepší než kdejaké manželství? Dodin je ale neústupný a tak se rozhodne udělat něco\, co ještě nikdy neudělal: uvaří on pro ni. Možná mu poté řekne své Ano.&nbsp\;
LOCATION:Litoměřice
END:VEVENT
END:VCALENDAR