BEGIN:VCALENDAR
VERSION:2.0
CALSCALE:GREGORIAN
PRODID:-//MyApp//Calendar 1.0//EN
BEGIN:VEVENT
METHOD:PUBLISH
UID:43856@regionalniportaly.cz
DTSTAMP:20260422T070112Z
DTSTART;VALUE=DATE:20240717
DTEND;VALUE=DATE:20240718
SUMMARY:Barbie - Letní kino Litoměřice
DESCRIPTION:USA\, 2023\, 114 minRežie: Greta Gerwig&nbsp\;Žít v Zemi Barbie znamená být dokonalou bytostí na dokonalém místě. Pokud tedy nemáte úplnou existenciální krizi. Nebo jste Ken.
LOCATION:Litoměřice
END:VEVENT
END:VCALENDAR