BEGIN:VCALENDAR
VERSION:2.0
CALSCALE:GREGORIAN
PRODID:-//MyApp//Calendar 1.0//EN
BEGIN:VEVENT
METHOD:PUBLISH
UID:43855@regionalniportaly.cz
DTSTAMP:20260424T083750Z
DTSTART;VALUE=DATE:20240713
DTEND;VALUE=DATE:20240714
SUMMARY:Dokonalé dny - Letní kino Litoměřice
DESCRIPTION:Japonsko\, Německo\, 2023\, 123 minRežie: Wim Wenders&nbsp\;Hirajama pracuje jako uklízeč toalet v Tokiu. Žije spokojeně ve své pečlivě sestavené rutině a volný čas tráví čtením knih\, poslechem starých rockových kazet nebo focením na svůj analogový fotoaparát. Ze životní harmonie ho vyruší série nečekaných setkání\, která postupně odhaluje střípky z jeho minulosti. Proslulý režisér&nbsp\;Wim Wenders&nbsp\;(Paříž\, Texas) se triumfálně vrací s poetickým filmem o hledání krásy ve zdánlivých maličkostech. Představitel hlavní role&nbsp\;Kódži Jakušo&nbsp\;byl na festivalu v Cannes oceněn za nejlepší mužský herecký výkon.
LOCATION:Litoměřice
END:VEVENT
END:VCALENDAR