BEGIN:VCALENDAR
VERSION:2.0
CALSCALE:GREGORIAN
PRODID:-//MyApp//Calendar 1.0//EN
BEGIN:VEVENT
METHOD:PUBLISH
UID:43854@regionalniportaly.cz
DTSTAMP:20260422T053820Z
DTSTART;VALUE=DATE:20240712
DTEND;VALUE=DATE:20240713
SUMMARY:Zápisník alkoholičky - Letní kino Litoměřice
DESCRIPTION:Česko\, 2024\, 90 minRežie: Dan Svátek&nbsp\;Nový celovečerní film&nbsp\;Zápisník alkoholičky&nbsp\;vypráví dramatický příběh mladé ženy bojující se závislostí na alkoholu. Hlavní hrdinkou (byť se jako hrdinka mnohdy nepůsobí) je mladá maminka\, která se rozhodla nevzdat\, nastoupit léčbu a bojovat se svým démonem i o svou rodinu. Jak těžké je si problém s&nbsp\;pitím přiznat? Proč není překážkou závislosti ani malé dítě? Kde vzít sílu se léčit a co následuje poté? Na tyto a mnohé další otázky odpovídá autentická a upřímná filmová zpověď abstinující alkoholičky.
LOCATION:Litoměřice
END:VEVENT
END:VCALENDAR