BEGIN:VCALENDAR
VERSION:2.0
CALSCALE:GREGORIAN
PRODID:-//MyApp//Calendar 1.0//EN
BEGIN:VEVENT
METHOD:PUBLISH
UID:43853@regionalniportaly.cz
DTSTAMP:20260422T053657Z
DTSTART;VALUE=DATE:20240710
DTEND;VALUE=DATE:20240711
SUMMARY:Povaha lásky - Letní kino Litoměřice
DESCRIPTION:Kanada\, Francie\, 2023\, 112 minRežie: Monia Chokri&nbsp\;Sophie žije pohodlný\, byť trochu nudný život se svým partnerem Xavierem. Dokud nepotká Sylvaina\, ani jí nenapadne\, že v&nbsp\;jejím životě chybí vášeň. Při náhodném střetu profesorky filozofie a&nbsp\;pohledného stavaře však nejen že přeskočí jiskra\, ale vzplane celý les. Sophie je brzy postavená před rozhodnutí\, zda dát přednost svému srdci\, nebo intelektu. Sophiina volba tentokrát znamená: raději zemitého sexy řemeslníka se sklony k&nbsp\;rasismu\, nebo salónního intelektuála\, ze kterého oheň nevykřešeš\, ale nemusíš se za něj stydět před přáteli…? Inteligentní romantická komedie quebecké režisérky a&nbsp\;herečky&nbsp\;Monii Chokri&nbsp\;přináší dojemnou a&nbsp\;vtipnou podívanou\, kde se Platón a&nbsp\;Schopenhauer užasle potkávají s&nbsp\;červenou knihovnou.
LOCATION:Litoměřice
END:VEVENT
END:VCALENDAR