BEGIN:VCALENDAR
VERSION:2.0
CALSCALE:GREGORIAN
PRODID:-//MyApp//Calendar 1.0//EN
BEGIN:VEVENT
METHOD:PUBLISH
UID:43852@regionalniportaly.cz
DTSTAMP:20260424T083812Z
DTSTART;VALUE=DATE:20240706
DTEND;VALUE=DATE:20240707
SUMMARY:Máme prachy - Letní kino Litoměřice
DESCRIPTION:Francie\, 2024\, 103 minRežie: Maxime Govare\, Romain Choay&nbsp\;Šance jedna ku 19 milionům. Pravděpodobnost\, že vás zasáhne meteorit\, je mnohem vyšší než šance\, že vyhrajete v loterii. Pro naše šťastné výherce se sen rychle změní v noční můru a jejich životy se roztříští ve velkolepém ohňostroji této vzrušující černé komedie.
LOCATION:Litoměřice
END:VEVENT
END:VCALENDAR