BEGIN:VCALENDAR
VERSION:2.0
CALSCALE:GREGORIAN
PRODID:-//MyApp//Calendar 1.0//EN
BEGIN:VEVENT
METHOD:PUBLISH
UID:43851@regionalniportaly.cz
DTSTAMP:20260422T084749Z
DTSTART;VALUE=DATE:20240705
DTEND;VALUE=DATE:20240706
SUMMARY:Sladký život - Letní kino Litoměřice
DESCRIPTION:Česko\, 2024\, 102 minRežie: Tomáš Hoffman&nbsp\;Hokejový reprezentant Rosťa Beran (Vladimír Polívka) je borec každým coulem. Žije v luxusním bytě\, má rychlé auto a spoustu mladých milenek v duchu hesla: Nad třicet let neberu! Peníze a titul mistra světa mu dávají báječný pocit nedotknutelnosti a nadřazenosti. Ale nic netrvá věčně… Nečekaný kolaps v posteli s krásnou blondýnou udělá za Rosťovou bohorovnou pohodou tlustou EKG čáru. Transplantaci jeho nového srdce povede přísná lékařka Magda (Petra Hřebíčková)\, se kterou kdysi strávil jedinou noc a už se jí nikdy neozval. Dluhy z rozmařilého života navíc Rosťu připraví o poslední korunu a jediné\, co mu ze slavného života zbude\, je medaile mistra světa\, kterou pro něj zachrání bývalý manažer a kamarád (Vojtěch Kotek). Rosťa v sobě musí najít novou životní energii\, optimismus a odvahu začít znovu od nuly. Pomáhá mu především Jindřich (Jan Cina)\, seriózní a zodpovědný chlapík\, který sám vychovává šestiletou dcerku\, má zlaté srdce a i když Rosťu nejdřív upřímně nesnáší\, brzy se z nich stanou nejlepší přátelé. Rosťa s překvapením zjišťuje\, že život obyčejných smrtelníků může být stejně nádherný a jedinečný\, jako láska k té pravé ženě nad třicet…
LOCATION:Litoměřice
END:VEVENT
END:VCALENDAR