BEGIN:VCALENDAR
VERSION:2.0
CALSCALE:GREGORIAN
PRODID:-//MyApp//Calendar 1.0//EN
BEGIN:VEVENT
METHOD:PUBLISH
UID:43849@regionalniportaly.cz
DTSTAMP:20260422T065949Z
DTSTART;VALUE=DATE:20240703
DTEND;VALUE=DATE:20240704
SUMMARY:Hrdí lvi: Postup - Letní kino Litoměřice
DESCRIPTION:Česko\, 2024\, 61 minRežie: Petr Šedivý\, Tomáš Kalous&nbsp\;Unikátní filmový dokument&nbsp\;Hrdí lvi: Postup&nbsp\;mapuje cestu české fotbalové reprezentace kvalifikačním rokem 2023. Ten přinesl hlavně vítězství a radost z postupu\, ale i těžké okamžiky a nečekané zvraty. Jak to při klíčových okamžicích vypadalo v zákulisí a v hráčské kabině? Jak důležité chvíle prožíval tým mimo zraky veřejnosti? Připomeňte si úspěšnou cestu na šampionát! Fotbalový příběh začíná zápasem v Praze\, vrcholí utkáním v Olomouci o všechno a slibuje pokračování v přímém přenosu v létě na šampionátu. Jedinečné záběry zprostředkují zážitek a emoce z výher či proher nejen očima diváků\, ale i z pohledu hráčů a celého týmu.
LOCATION:Litoměřice
END:VEVENT
END:VCALENDAR