BEGIN:VCALENDAR
VERSION:2.0
CALSCALE:GREGORIAN
PRODID:-//MyApp//Calendar 1.0//EN
BEGIN:VEVENT
METHOD:PUBLISH
UID:43669@regionalniportaly.cz
DTSTAMP:20260422T084928Z
DTSTART;VALUE=DATE:20240727
DTEND;VALUE=DATE:20240728
SUMMARY:Těžká Barbora
DESCRIPTION:Pojďte s námi ukončit letní divadelní hraní pod širým nebem.Hra Těžká Barbora je situována do města Ediamu jež je obdobou našeho Kocourkova. Mírumilovný Eidam je ohrožen rozpínavou sousední velmocí. Přijde vám to aktuální? Nám taky.&nbsp\;
LOCATION:Bělá pod Bezdězem
END:VEVENT
END:VCALENDAR