BEGIN:VCALENDAR
VERSION:2.0
CALSCALE:GREGORIAN
PRODID:-//MyApp//Calendar 1.0//EN
BEGIN:VEVENT
METHOD:PUBLISH
UID:43373@regionalniportaly.cz
DTSTAMP:20260422T084422Z
DTSTART;VALUE=DATE:20240806
DTEND;VALUE=DATE:20240807
SUMMARY:4 ROCKEŘI s operní pěvkyní - Letní koncert u Mácháče
DESCRIPTION:4 ROCKEŘI s operní pěvkyní míří do Doks!V kempu Bílý kámen proběhne náš první letní sraz s fans\, doraž i TY!&nbsp\;PROŽIJTE SOUZNĚNÍ ROCKOVÝCH HLASŮ S OPERNÍMRepertoár tvoří originálně upravené světové a české hity\, převedené z jiných hudebních žánrů&nbsp\;do rockových aranží.Na koncertě například zazní:&nbsp\;Smetanova Vltava\, Back to Black\, Atlantida\, Fantom Opery\, Sweet Dreams\, The Diva Dance a mnoho dalších hitů v rockovém kabátě.Zpívají: Jiří Zonyga\, Milan Devinne\, Leona Šenková\, Jan Vytásek a operní pěvkyně Monika SommerováTo vše naživo s doprovodem skvělých hudebníků naší populární scény.
LOCATION:Doksy
END:VEVENT
END:VCALENDAR