BEGIN:VCALENDAR
VERSION:2.0
CALSCALE:GREGORIAN
PRODID:-//MyApp//Calendar 1.0//EN
BEGIN:VEVENT
METHOD:PUBLISH
UID:43089@regionalniportaly.cz
DTSTAMP:20260422T084916Z
DTSTART;VALUE=DATE:20240721
DTEND;VALUE=DATE:20240722
SUMMARY:Klíč aneb Co je to ptakopysk
DESCRIPTION:Představení mšenského souboru se skládá ze dvou částí. Tou první je přednáška pátera Omnibuse "O sexu". On totiž pan páter má trochu problém prosadit svou myšlenku o šíření osvěty ožehavých témat. Příchod nevhodně zvědavé novicky situaci jen komplikuje.Po přestávce shlédnete frašku Klíč aneb Co je to ptakopysk. Přiopilý hudebník z devatenáctého století vypráví dvěma tanečnicím příběh: O studentovi\, který hledá způsob\, jak přežít v divokém světě. Svojí snahou dost zamotá dosud "poklidný" život dvou sousedních rodin v zapomenuté uličce města. Tam chronicky pracovitý kovář naráží\, co chvíli\, na záludné úmysly svého spořivého souseda.
LOCATION:Bělá pod Bezdězem
END:VEVENT
END:VCALENDAR