BEGIN:VCALENDAR
VERSION:2.0
CALSCALE:GREGORIAN
PRODID:-//MyApp//Calendar 1.0//EN
BEGIN:VEVENT
METHOD:PUBLISH
UID:43086@regionalniportaly.cz
DTSTAMP:20260422T070203Z
DTSTART;VALUE=DATE:20240629
DTEND;VALUE=DATE:20240630
SUMMARY:Prázdniny s Broučkem - Letní kino Litoměřice
DESCRIPTION:Česko\, 2024\, 87 minRežie: Jiří Matoušek&nbsp\;Kdo by někdy nechtěl vyrazit na rodinnou dovolenou krásným červeným karavanem po dědovi?&nbsp\;Bára Poláková&nbsp\;coby dobrodružná máma dvou dětí a nadšená food blogerka\, řekne této výzvě ano. Její manžel\, kterého si zahrál&nbsp\;Lukáš Příkazký\, dobrodružné nadšení ani trochu nesdílí. Ale když máme vedle sebe někoho\, koho máme rádi\, je úplně jedno\, kde zrovna jsme. Celá rodina proto nakonec vyrazí na letní dovolenou k&nbsp\;moři obytňákem. A přesto\, že je Jadran doslova na dosah\, cesta se může pořádně protáhnout.
LOCATION:Litoměřice
END:VEVENT
END:VCALENDAR