BEGIN:VCALENDAR
VERSION:2.0
CALSCALE:GREGORIAN
PRODID:-//MyApp//Calendar 1.0//EN
BEGIN:VEVENT
METHOD:PUBLISH
UID:43085@regionalniportaly.cz
DTSTAMP:20260422T070124Z
DTSTART;VALUE=DATE:20240628
DTEND;VALUE=DATE:20240629
SUMMARY:Ve jménu cti - Letní kino Litoměřice
DESCRIPTION:Francie\, 2023\, 101 minRežie: Vincent Perez&nbsp\;Paříž\, 1887. Duel je sice oficiálně zakázanou\, ale stále běžnou praxí. A pro mnohé také jediným způsobem\, jak si udržet svou čest. Clément Lacaze\, mistr šermu\, se marně snaží odradit svého synovce od nerovného souboje se zkušeným plukovníkem Berchèrem. Marie-Rose Astié de Valsayre\, feministka\, která bojuje za rovnoprávnost žen\, se snaží dokázat\, že čest není pouze mužskou záležitostí. Historický snímek herce a režiséra&nbsp\;Vincenta Pereze&nbsp\;efektně využívá jednotlivé varianty duelů – s&nbsp\;kordy\, pistolemi nebo s šavlemi na koních.Film získal diváckou cenu na Mezinárodním filmovém festivalu Karlovy Vary v roce 2023.
LOCATION:Litoměřice
END:VEVENT
END:VCALENDAR