BEGIN:VCALENDAR
VERSION:2.0
CALSCALE:GREGORIAN
PRODID:-//MyApp//Calendar 1.0//EN
BEGIN:VEVENT
METHOD:PUBLISH
UID:43084@regionalniportaly.cz
DTSTAMP:20260422T070102Z
DTSTART;VALUE=DATE:20240626
DTEND;VALUE=DATE:20240627
SUMMARY:Bod obnovy - Letní kino Litoměřice
DESCRIPTION:Česko\, Slovensko\, Polsko\, Srbsko\, 2023\, 116 minRežie: Robert Hloz&nbsp\;Představte si\, že žijete v roce 2041\, kdy máte právo být po nehodě či jiné nepřirozené smrti oživeni. Stačí si jen pravidelně vytvářet digitální zálohu své osobnosti – BOD OBNOVY. Agentka Em právě dostává do rukou případ\, kdy byla základní pravidla obnovy porušena. Bod obnovy oběti byl smazán a Em tak má před sebou výjimečný zločin. Strhující příběh zasazený do blízké budoucnosti\, kdy technologie budou zaručovat lepší život a lidé si budou moci zaplatit jeho prodloužení.
LOCATION:Litoměřice
END:VEVENT
END:VCALENDAR