BEGIN:VCALENDAR
VERSION:2.0
CALSCALE:GREGORIAN
PRODID:-//MyApp//Calendar 1.0//EN
BEGIN:VEVENT
METHOD:PUBLISH
UID:43083@regionalniportaly.cz
DTSTAMP:20260422T050856Z
DTSTART;VALUE=DATE:20240621
DTEND;VALUE=DATE:20240622
SUMMARY:Priscilla - Letní kino Litoměřice
DESCRIPTION:USA\, 2023\, 110 minRežie: Sofia Coppola&nbsp\;V roce 1959 potkává čtrnáctiletá&nbsp\;Priscilla Beaulieu&nbsp\;(Cailee Spaeny) na vojenské základně o deset let staršího&nbsp\;Elvise Presleyho&nbsp\;(Jacob Elordi). Jejich setkání je osudové. Po boku krále rock’n’rollu na ni čeká život plný pozlátka a večírků\, ale i hádek a citové manipulace. Držitelka Oscara&nbsp\;Sofia Coppola&nbsp\;(Ztraceno v překladu) představuje odvrácenou tvář popové ikony ve stylovém portrétu jednoho z největších milostných příběhů dvacátého století.
LOCATION:Litoměřice
END:VEVENT
END:VCALENDAR