BEGIN:VCALENDAR
VERSION:2.0
CALSCALE:GREGORIAN
PRODID:-//MyApp//Calendar 1.0//EN
BEGIN:VEVENT
METHOD:PUBLISH
UID:43082@regionalniportaly.cz
DTSTAMP:20260422T052012Z
DTSTART;VALUE=DATE:20240607
DTEND;VALUE=DATE:20240608
SUMMARY:Tancuj Matyldo - Letní kino Litoměřice
DESCRIPTION:Česko\, 2023\, 113 minRežie: Petr SlavíkV&nbsp\;příběhu inspirovaném skutečnou událostí žije uzavřený Karel (Karel Roden) ve světě řádu a striktních pravidel\, ve kterém nezbývá mnoho místa pro empatii. Svou extrovertní a bohémskou matku Matyldu (Regina Rázlová)\, bývalou barovou zpěvačku\, navštěvuje víceméně z&nbsp\;povinnosti. Matylda přijde nečekaně o byt a Karlovi nezbyde než ji vzít k&nbsp\;sobě. Jejich soužití je ale pro něj katastrofou. Zvlášť když vyjde najevo\, že u Matyldy propuká Alzheimerova choroba. Jako možné řešení se nabízí\, že o svéráznou babičku bude pečovat Karlův syn Pavel (Antonio Šoposki)\, nezodpovědný floutek pohrdající otcovou profesí exekutora. Společná domácnost tří rozdílných temperamentů různých generací přináší řadu humorných momentů\, s&nbsp\;postupujícími příznaky nemoci spíš tragikomických. Na první pohled bezvýchodná situace převrátí rodině život vzhůru nohama\, ale tím\, že to nevzdají\, udělají něco důležitého nejen pro Matyldu\, ale i sami pro sebe.
LOCATION:Litoměřice
END:VEVENT
END:VCALENDAR