BEGIN:VCALENDAR
VERSION:2.0
CALSCALE:GREGORIAN
PRODID:-//MyApp//Calendar 1.0//EN
BEGIN:VEVENT
METHOD:PUBLISH
UID:43081@regionalniportaly.cz
DTSTAMP:20260422T033806Z
DTSTART;VALUE=DATE:20240531
DTEND;VALUE=DATE:20240601
SUMMARY:Zásah štěstím - Letní kino Litoměřice
DESCRIPTION:Francie\, Velká Británie\, 2023\, 93 minRežie: Woody Allen&nbsp\;Fanny a&nbsp\;Jean působní jako naprosto dokonalý pár. Mají vše\, o&nbsp\;čem ostatní sní. V&nbsp\;profesním životě jsou spokojení\, žijí v&nbsp\;nádherném bytě v&nbsp\;krásné pařížské čtvrti a&nbsp\;zdá se\, že&nbsp\;jsou do&nbsp\;sebe zamilovaní stejně\, jako&nbsp\;když se&nbsp\;poprvé setkali. Vše ale změní jedno náhodné setkání. Když Fanny potká Alaina\, svého bývalého kamaráda ze&nbsp\;střední\, bezděčně propadá jeho neodolatelnému šarmu. Její pocit štěstí&nbsp\;a poklidu v&nbsp\;idylickém manželství dostává trhliny. A&nbsp\;s každou další schůzkou jsou si&nbsp\;s Alainem bližší a&nbsp\;bližší…
LOCATION:Litoměřice
END:VEVENT
END:VCALENDAR