BEGIN:VCALENDAR
VERSION:2.0
CALSCALE:GREGORIAN
PRODID:-//MyApp//Calendar 1.0//EN
BEGIN:VEVENT
METHOD:PUBLISH
UID:42449@regionalniportaly.cz
DTSTAMP:20260422T065940Z
DTSTART;VALUE=DATE:20240627
DTEND;VALUE=DATE:20240628
SUMMARY:S Pydlou v zádech
DESCRIPTION:Legendární inscenace s Josefem DvořákemHra&nbsp\;S Pydlou v zádech&nbsp\;měla svou premiéru v Divadle Semafor 4.6.1981. Stala se divácky nejúspěšnějším titulem v repertoáru skupiny Josefa Dvořáka\, a ačkoli bylo od té doby mnohokrát&nbsp\;uvažováno o jejím stažení\, byly dokonce stanoveny termíny\, kdy bude hrána naposled\, prokázala podivuhodnou houževnatost a nezničitelnost a vždy znovu se vynořovala do&nbsp\;světla reflektorů.Proč? Nejen proto\, že poskytuje prostor pro řadu&nbsp\;brilantních klaunských čísel Josefa Dvořáka\, ale i pro její svérázný humor\, jehož kmotry jsou na jedné straně&nbsp\;Becket na druhé straně Hašek.Postavička prostého lidového chytráka se zaplétá v šachové partii mocných. Ta snaha neustále předstírat\, hrát vždy tu roli\, která se právě žádá\, vytěžit z každé situace i něco pro sebe\, onen bezpáteřný konjukturalismus\, snaha vytvářet i na troskách za každou cenu zdání idylky… není nám to všechno příliš povědomé?Nepovažujeme už řadu absurdně groteskních situací za všední jev jen proto\, že jsme si na ně tak nějak zvykli? A tady pomůže už jen nastavené zrcadlo smíchu\, které je sice křivé\, ale o to ostřeji zobrazuje …
LOCATION:Bělá pod Bezdězem
END:VEVENT
END:VCALENDAR