BEGIN:VCALENDAR
VERSION:2.0
CALSCALE:GREGORIAN
PRODID:-//MyApp//Calendar 1.0//EN
BEGIN:VEVENT
METHOD:PUBLISH
UID:42440@regionalniportaly.cz
DTSTAMP:20260422T051921Z
DTSTART;VALUE=DATE:20240614
DTEND;VALUE=DATE:20240615
SUMMARY:NeFeNeFi - nejkratší filmový festival
DESCRIPTION:Přehlídka krátkometrážních filmů&nbsp\;Již třetí ročník filmového festivalu NeFeNeFi se letos koná poprvé v&nbsp\;malebném městě&nbsp\;Velvary\, pod záštitou&nbsp\;města Velvary a&nbsp\;starosty PhDr. Radima Woláka.Jak již nadpis napovídá\, zkratka NeFeNeFi znamená&nbsp\;Nejkratší Festival Nejkratších Filmů\, který trvá jen jeden den!Prezidentem a zakladatelem festivalu NeFeNeFi&nbsp\;je trojnásobný držitel českého lva\,kameraman a režisér\,&nbsp\;F.A. Brabec. I s ním se na slavnostním promítání a předávání cen můžete setkat.
LOCATION:Velvary
END:VEVENT
END:VCALENDAR