BEGIN:VCALENDAR
VERSION:2.0
CALSCALE:GREGORIAN
PRODID:-//MyApp//Calendar 1.0//EN
BEGIN:VEVENT
METHOD:PUBLISH
UID:42270@regionalniportaly.cz
DTSTAMP:20260422T101449Z
DTSTART;VALUE=DATE:20240802
DTEND;VALUE=DATE:20240803
SUMMARY:Protheus - Klub Loděnice
DESCRIPTION:
LOCATION:Benátky nad Jizerou
END:VEVENT
END:VCALENDAR