BEGIN:VCALENDAR
VERSION:2.0
CALSCALE:GREGORIAN
PRODID:-//MyApp//Calendar 1.0//EN
BEGIN:VEVENT
METHOD:PUBLISH
UID:41775@regionalniportaly.cz
DTSTAMP:20260422T014048Z
DTSTART;VALUE=DATE:20240421
DTEND;VALUE=DATE:20240422
SUMMARY:LiStOVáNí.cz: Kluk z kostek
DESCRIPTION: \nAlex svou ženu Jody miluje\, ale zapomněl\, jak jí to dát najevo. Zbožňuje i svého autistického syna\, ale ani za mák mu nerozumí. Sam je plný překvapení a svět je pro něj hádanka\, kterou bez pomoci nedokáže rozluštit. Až díky hraní Minecraftu pro sebe otec se synem najdou společný prostor\, v němž se začnou lépe poznávat a navzájem se chápat. Dokáže se rozpadlá rodina kousek po kousku\, kostku po kostce dát znovu dohromady?\n \nKeith Stuartpracuje jako novinář pro deník The Guardian\, kde píše hlavně o počítačových hrách. Dříve přispíval do známého herního časopisu Edge i jiných periodik zaměřených na herní průmysl (The Official PlayStation Magazine\, PC Gamer\, T3) a publikoval články o digitálním a interaktivním umění v časopisu Frieze. V Guardianu se věnuje také hudbě\, filmu a médiím a podílí se na tvorbě podcastu Tech Weekly. Žije v anglickém Sommersetu\, je ženatý a má dva syny\, kterým byla oběma diagnostikována porucha autistického spektra. Kluk z kostek je jeho první román. Překládá se do více než dvaceti jazyků a Keith Stuart v současné době pracuje na své druhé knize.\n \nÚčinkují: Tomáš Drápela\, Věra Hollá a Pavel Oubram\nKnihu v roce 2017 vydalo v překladu Johany Eliášové nakladatelství Plus ze skupiny Albatros Media\nZačátek: 21. 4. 2024 | 20.00Konec: 21. 4. 2024 | 21.00Kde: hudební sál MKDVstupné: 150 Kč\n \n \n 
LOCATION:Mělník
END:VEVENT
END:VCALENDAR