BEGIN:VCALENDAR
VERSION:2.0
CALSCALE:GREGORIAN
PRODID:-//MyApp//Calendar 1.0//EN
BEGIN:VEVENT
METHOD:PUBLISH
UID:41294@regionalniportaly.cz
DTSTAMP:20260422T014113Z
DTSTART;VALUE=DATE:20240414
DTEND;VALUE=DATE:20240415
SUMMARY:Divadlo V.A.D. - Úl
DESCRIPTION:Hra Úl s podtitulem „včelařské divadelní rondo“ je komediální sondou do ročního fungování jedné Základní organizace Českého svazu včelařů. Ve smyslu hudebního ronda se střídá refrén spolkových schůzí s dějem na jednotlivých stanovištích. Jsou včelaři něčím specifičtí\, nebo představují běžný vzorek populace? Jací jsou vlastně a co mají společného lidé a včely? A vejdou se všichni do úlu?
LOCATION:Velvary
END:VEVENT
END:VCALENDAR