BEGIN:VCALENDAR
VERSION:2.0
CALSCALE:GREGORIAN
PRODID:-//MyApp//Calendar 1.0//EN
BEGIN:VEVENT
METHOD:PUBLISH
UID:41189@regionalniportaly.cz
DTSTAMP:20260422T015307Z
DTSTART;VALUE=DATE:20240424
DTEND;VALUE=DATE:20240425
SUMMARY:Václav Koubek
DESCRIPTION:Hity a historky legendárního českého písničkáře a harmonikáře\, spisovatele\, herce...
LOCATION:Litoměřice
END:VEVENT
END:VCALENDAR