BEGIN:VCALENDAR
VERSION:2.0
CALSCALE:GREGORIAN
PRODID:-//MyApp//Calendar 1.0//EN
BEGIN:VEVENT
METHOD:PUBLISH
UID:40922@regionalniportaly.cz
DTSTAMP:20260422T015142Z
DTSTART;VALUE=DATE:20240403
DTEND;VALUE=DATE:20240404
SUMMARY:Gump - jsme dvojka
DESCRIPTION:Promítání premiéry filmu Gump - jsme dvojka v místech\, kde se natáčel. Projekce proběhne s&nbsp\;osobní účasti režiséra filmu F.Brabce\, autora knižní předlohy F.Rožka i samotného Gumpa!
LOCATION:Velvary
END:VEVENT
END:VCALENDAR