BEGIN:VCALENDAR
VERSION:2.0
CALSCALE:GREGORIAN
PRODID:-//MyApp//Calendar 1.0//EN
BEGIN:VEVENT
METHOD:PUBLISH
UID:40712@regionalniportaly.cz
DTSTAMP:20260424T083837Z
DTSTART;VALUE=DATE:20240409
DTEND;VALUE=DATE:20240410
SUMMARY:Zaniklé obce - přednáška Petra Karlíčka
DESCRIPTION:Na rozhraní Ústecka\, Děčínska a Litoměřicka: Život lidí v zaniklých obcích\, osadách a samotách pod Bukovou horou.Ředitel ústeckého městského archivu Petr Karlíček představí formou popularizační přednášky vznik\, budování a údržbu turistické stezky po zaniklých lidských sídlech v okolí Bukové hory.Zaručujeme větší množství dosud nepublikovaných fotografií\, kreseb\, map i&nbsp\; nepublikovatelných historek. V rámci přednášky se Petr Karlíček ve větší míře zaměří na zaniklá lidská sídla v litoměřické části stezky\, konkrétně na Mauerschine a Horní Šebířov.
LOCATION:Litoměřice
END:VEVENT
END:VCALENDAR