BEGIN:VCALENDAR
VERSION:2.0
CALSCALE:GREGORIAN
PRODID:-//MyApp//Calendar 1.0//EN
BEGIN:VEVENT
METHOD:PUBLISH
UID:40348@regionalniportaly.cz
DTSTAMP:20260422T101850Z
DTSTART;VALUE=DATE:20240815
DTEND;VALUE=DATE:20240816
SUMMARY:Koncert filmové hudby pod širým nebem
DESCRIPTION:Smyčce Pražského filmového orchestru pod taktovkou dirigenta Jiřího Korynty&nbsp\;přináší velkolepý koncert\, který představí&nbsp\;v&nbsp\;nezapomenutelné atmosféře prostor&nbsp\;letního kina na střeleckém ostrově&nbsp\;při západu slunce.Diváci v Litoměřicích&nbsp\;mohou&nbsp\;těšit na&nbsp\;skladby z filmů&nbsp\;Star Wars\, Pán Prstenů\, Games of Thrones\, Harry Potter\, Piráti z&nbsp\;Karibiku&nbsp\;a další známé melodie stříbrného plátna.Koncert bude bohatý na fantastickou filmovou hudbu od světově známých hudebních skladatelů\, jakými jsou např.&nbsp\;John Williams\,&nbsp\;Hans Zimmer\,&nbsp\;Howard Shore&nbsp\;nebo&nbsp\;James Horner.&nbsp\;&nbsp\;INFO:&nbsp\;Koncert proběhne na letním kině!&nbsp\;PŘEDPRODEJ VSTUPENEK1. vlna - 690\,- Kč (Vyprodáno)2. vlna - 790\,- Kč&nbsp\;3.&nbsp\;vlna - 890\,- Kč&nbsp\;
LOCATION:Litoměřice
END:VEVENT
END:VCALENDAR