BEGIN:VCALENDAR
VERSION:2.0
CALSCALE:GREGORIAN
PRODID:-//MyApp//Calendar 1.0//EN
BEGIN:VEVENT
METHOD:PUBLISH
UID:40339@regionalniportaly.cz
DTSTAMP:20260422T014123Z
DTSTART;VALUE=DATE:20240420
DTEND;VALUE=DATE:20240421
SUMMARY:Koncert Petr Lüftner\, akordeon solo
DESCRIPTION:Petr&nbsp\;Lüftner&nbsp\;(35) z Ústí nad Labem\, který vloni vydal své třetí album&nbsp\;Petri\, je v současnosti jedním z mála písničkářů v ČR\, doprovázející se po většinu písní na akordeon\, s jehož pomocí dokáže energicky strhnout obecenstvo a dát tomuto nástroji nečekaný rozměr.Protestsongy\, písně romantického charakteru i k pobavení\, to je hlavní gró jeho tvorby\, nasáklé atmosférou severních Čech.Jako jeden z mála na světě je oficiálním hráčem nejstaršího výrobce akordeonů na světě - německé společnosti Weltmeister.&nbsp\;Hostoval na pěti turné s&nbsp\;Xindlem X\, se kterým nahráli i společný duet Nejlepší zvukař.Za dobu svého písničkaření má za sebou přes 300 hudebních vystoupení a během nich&nbsp\;vystupuje&nbsp\;Petr&nbsp\;jak v kapelní\, tak v sólo variantě či v kombinaci se šansoniérkou\, sestrou&nbsp\;Eliškou. Pokud právě na podiu nemačká měchy akordeonu\, doprovází se na kytaru\, ukulele či šlapák.Mimo koncerty můžete&nbsp\;Petra&nbsp\;spatřit aktuálně například v muzikále My Fair Lady v Severočeském divadle opery a baletu nebo ho zaslechnout\, jako moderátora Českého rozhlasu Sever.&nbsp\;
LOCATION:Velvary
END:VEVENT
END:VCALENDAR