BEGIN:VCALENDAR
VERSION:2.0
CALSCALE:GREGORIAN
PRODID:-//MyApp//Calendar 1.0//EN
BEGIN:VEVENT
METHOD:PUBLISH
UID:39583@regionalniportaly.cz
DTSTAMP:20260422T110505Z
DTSTART;VALUE=DATE:20240831
DTEND;VALUE=DATE:20240901
SUMMARY:Kýpa fest Vraňany
DESCRIPTION:Jednodenní rockový festival
LOCATION:Vraňany
END:VEVENT
END:VCALENDAR