BEGIN:VCALENDAR
VERSION:2.0
CALSCALE:GREGORIAN
PRODID:-//MyApp//Calendar 1.0//EN
BEGIN:VEVENT
METHOD:PUBLISH
UID:39444@regionalniportaly.cz
DTSTAMP:20260422T065917Z
DTSTART;VALUE=DATE:20240621
DTEND;VALUE=DATE:20240622
SUMMARY:OLO FEST
DESCRIPTION:První ročník obecního multižánrového festivalu.Vítání léta v Olovnici (Slaný) s kapelami:&nbsp\;Totální nasazenízakázanÝovoceDeratizéřiCOVERS for LoversLáska
LOCATION:Olovnice
END:VEVENT
END:VCALENDAR