BEGIN:VCALENDAR
VERSION:2.0
CALSCALE:GREGORIAN
PRODID:-//MyApp//Calendar 1.0//EN
BEGIN:VEVENT
METHOD:PUBLISH
UID:39233@regionalniportaly.cz
DTSTAMP:20260421T235614Z
DTSTART;VALUE=DATE:20240317
DTEND;VALUE=DATE:20240318
SUMMARY:Dětský karneval - diskotéka s Bingem\, Elsou a Olafem
DESCRIPTION:Užijte si super dětský karneval s králíčkem Bingem\, princeznou Elsou a sněhulákem Olafem! Na programu je diskotéka s oblíbenými dětskými hity\, tanec a focení s našimi maskoty\, malování na obličej a zábavné hry! Těšit se můžete na dárek pro každé dítě v kostýmu\, drobné občerstvení a skvělou zábavu! \n\nAkce se bude konat za jakéhokoli počasí\, tančit budeme ve vnitřních prostorech loděnice! \n\nAreál otevřen od 15:00 do 18:00 hodin. Program bude probíhat v čase 15:30 až  17:30 hodin.\n\nVstupné je jednotné pro děti od 1 roku (včetně) i dospělé osoby. Děti do 12 měsíců mají vstup zdarma.\n\nSUPER AKCE V PŘEDPRODEJI 3+1 zdarma! Na tuto vstupenkou mohou vstoupit čtyři osoby! \n\nKapacita míst je omezena.
LOCATION:Čelákovice
END:VEVENT
END:VCALENDAR