BEGIN:VCALENDAR
VERSION:2.0
CALSCALE:GREGORIAN
PRODID:-//MyApp//Calendar 1.0//EN
BEGIN:VEVENT
METHOD:PUBLISH
UID:39138@regionalniportaly.cz
DTSTAMP:20260422T001342Z
DTSTART;VALUE=DATE:20240322
DTEND;VALUE=DATE:20240323
SUMMARY:Ecstatic Dance - Tančící srdce s DJ Kante Ar
DESCRIPTION:Jste srdečně zváni na další Ecstatic Dance- Tančící srdce&nbsp\;s naším oblíbeným DJ KANTE AR&nbsp\;Tentokrát je to SPECIÁL s Oslavou ROVNODENNOSTI se ŠAMANSKÝM BUBNOVÁNÍM&nbsp\;Večerem vás provedou Venus &amp\; Šárka &amp\; MíšaNa začátku se společně naladíme na tanec\, poté vás 2h tanečním setem provede skvělý DJ Kante Ar a v závěrečné fázi bude pár minutová relaxace Sound healing.&nbsp\;Ecstatic dance je tanec bez alkoholu a drog. Na místě bude k dispozici voda a malé ovocné občerstvení. S sebou pohodlné oblečení.Vstupné: v předprodeji 390\,-Na místě 450\,-Těšíme se na vásED tým&nbsp\;&amp\; Dj Kante Ar&nbsp\;
LOCATION:Litoměřice
END:VEVENT
END:VCALENDAR