BEGIN:VCALENDAR
VERSION:2.0
CALSCALE:GREGORIAN
PRODID:-//MyApp//Calendar 1.0//EN
BEGIN:VEVENT
METHOD:PUBLISH
UID:38757@regionalniportaly.cz
DTSTAMP:20260422T000602Z
DTSTART;VALUE=DATE:20240315
DTEND;VALUE=DATE:20240316
SUMMARY:Tonka Šibenice
DESCRIPTION:aneb pravdivý příběh lehké holky s dobrým srdcemDle předlohy hry M. Macourka a povídky E. E. Kische upravila Jolana PetříkováLegendární příběh známé pražské prostitutky Antonie Havlové\, řečené Tonky Šibenice\, která stanula u Posledního Soudu\, kde se rozhoduje o jejím životě a její cestě do ráje\, nebo do věčného zatracení… Několikrát soudně trestaná prostitutka\, která strávila noc s příšerným vrahem Prokůpkem před jeho oběšením\, aby splnila jeho poslední přání\, je skutečná postava pražské galerky.Vyprávění jejího životního příběhu je připomenutím\, že nemáme nikoho soudit\, pokud neznáme pozadí jeho činů.
LOCATION:Bělá pod Bezdězem
END:VEVENT
END:VCALENDAR