BEGIN:VCALENDAR
VERSION:2.0
CALSCALE:GREGORIAN
PRODID:-//MyApp//Calendar 1.0//EN
BEGIN:VEVENT
METHOD:PUBLISH
UID:38662@regionalniportaly.cz
DTSTAMP:20260422T000939Z
DTSTART;VALUE=DATE:20240223
DTEND;VALUE=DATE:20240224
SUMMARY:Ucho
DESCRIPTION:Desáté&nbsp\;výročí svatby je velká událost hodná pořádné&nbsp\;oslavy. Romantická večeře při svíčkách\, lahodný dezert a láhev toho nejlepšího vína. Nic z toho však nečeká&nbsp\;Ludvíka a Annu\, kteří se v pozdních hodinách vracejí domů ze stranického večírku. Ludvík je až nezvykle nervózní a Anna to zase jednou přehnala s pitím. Píšou se totiž padesátá léta a u moci je komunistický režim. A jak všichni moc dobře víme: "Strana\, ta vždycky poslouchá!"Podle trezorového filmu Karla Kachyni
LOCATION:Bělá pod Bezdězem
END:VEVENT
END:VCALENDAR