BEGIN:VCALENDAR
VERSION:2.0
CALSCALE:GREGORIAN
PRODID:-//MyApp//Calendar 1.0//EN
BEGIN:VEVENT
METHOD:PUBLISH
UID:38304@regionalniportaly.cz
DTSTAMP:20260421T224226Z
DTSTART;VALUE=DATE:20240202
DTEND;VALUE=DATE:20240203
SUMMARY:Welicoruss / Innersphere / Litoměřice
DESCRIPTION:WELICORUSS / INNERSPHERE "World Falls Tour 2023/24"Epic extreme metalová kapela Welicoruss se vynořila z dvouleté hibernace\, aby představila novou show obsahující skladby ze všech 4 alb. Welicoruss jsou opět připraveni dobýt českou svou energickou\, zběsilou show\, kterou rozhodně musíte vidět naživo!Styl kapely je těžké popsat\, ale v průběhu let se členové kapely shodli\, že hudebně nejblíž má k epickému extrémnímu metalu\, který ztělesňuje zuřivost black metalu\, epičnost symfonického metalu a složité aranže a rytmy progresivního metalu.Welicoruss již vystoupili na mnoha kultovních festivalech v Evropě\, absolvovali rozsáhlá turné a v současné době kapela aktivně pracuje na novém albu "Deadman's Manifest"\, které vyjde v roce 2024.VIDEO "Siberian Heathen Horde":&nbsp\;https://youtu.be/ab7ddpqiO9wVIDEO "Spellcaster":&nbsp\;https://youtu.be/J3AJqMGAhcMLIVE "Legends Rock Festival":&nbsp\;https://youtu.be/v5Xofmuks0w__________________INNERSPHERE - melodic death / black metal [Pilsen\, CZ]je melodic-death metalová kapela z Plzně\, ČeskéRepubliky založená na konci roku 2015. Tento kvartet míchá prvky různých metalových a i rockových subžánrů a je možné poznat vlivy progresive\, thrash\, black nebo doom metalu a při tom si stále zachovávají agresivní elementy napříč tvorbou. Poslední alba jsou více zaměřena na výpravu\, atmosféru či ducha skladeb a jsou epičtější.Innersphere je aktivní kapelou hned od první sestavy (2016) \, kdy objíždějí koncerty nejen v ČR\, ale také v Německu\, Polsku\, Rakousku\, na Balkáně a dál... pracují na hudbě a kapele\, aby se dílo dostalo ještě dále. Vydané byly zatím 3 studiové nahrávky - debutové EP a 2 dlouhohrající desky “Amnesia” a “Omfalos”. Třetí řadové album “In The Shadow of the Sun” je již natočeno a řeší se jeho vydání.VIDEO:&nbsp\;https://youtu.be/VHCWA-sjJQE__________________DAVID HRADÍLEK je metalová kapela založená hudebníkem a spisovatelem Davidem Hradílkem (ex-VIDOCK\, TÖRR\, INNERSPHERE\, ADAGIO FUNEBRE) v roce 2021 v Ústí nad Labem. Kapela vznikla na základě hororové knihy “David Hradílek - My Sweet Mortuary“\, kdy David složil ke každé kapitole knihy skladbu. Vzniklo tak ucelené koncepční album\, jež se řadí do žánru heavy/black/doom metal. Kapela momentálně hledá pro vydání knihy a alba vydavatele.VIDEO:&nbsp\;https://www.youtube.com/watch?v=SufOcDe43DE
LOCATION:Litoměřice
END:VEVENT
END:VCALENDAR