BEGIN:VCALENDAR
VERSION:2.0
CALSCALE:GREGORIAN
PRODID:-//MyApp//Calendar 1.0//EN
BEGIN:VEVENT
METHOD:PUBLISH
UID:37935@regionalniportaly.cz
DTSTAMP:20260422T001212Z
DTSTART;VALUE=DATE:20240322
DTEND;VALUE=DATE:20240323
SUMMARY:Michael Szatmary a Jarda Krušina Stand Up Gang
DESCRIPTION:Michael Szatmary a Jarda Krušina se svou Stand Up Show zavítají v rámci Československé tour do hotelu Grand v Doksech\, kde zaútočí na vaše bránice!
LOCATION:Doksy
END:VEVENT
END:VCALENDAR