BEGIN:VCALENDAR
VERSION:2.0
CALSCALE:GREGORIAN
PRODID:-//MyApp//Calendar 1.0//EN
BEGIN:VEVENT
METHOD:PUBLISH
UID:37842@regionalniportaly.cz
DTSTAMP:20260422T001747Z
DTSTART;VALUE=DATE:20240211
DTEND;VALUE=DATE:20240212
SUMMARY:Dětský karneval
DESCRIPTION:Začátek: 11. 2. 2024 | 15.00Konec: 11. 2. 2024 | 17.00Místo konání: taneční sál MKDVstupné: 120 Kč
LOCATION:Mělník
END:VEVENT
END:VCALENDAR