BEGIN:VCALENDAR
VERSION:2.0
CALSCALE:GREGORIAN
PRODID:-//MyApp//Calendar 1.0//EN
BEGIN:VEVENT
METHOD:PUBLISH
UID:37829@regionalniportaly.cz
DTSTAMP:20260421T221709Z
DTSTART;VALUE=DATE:20240117
DTEND;VALUE=DATE:20240118
SUMMARY:Dějiny výtvarného umění v souvislostech
DESCRIPTION:Začátek: 17. 1. 2024 | 18.00Konec: 17. 1. 2024 | 19.30Místo konání: hudební sál MKDVstupné: dospělí 100 Kč\, strudenti a senioři 70 Kč\n \nDĚJINY VÝTVARNÉHO UMĚNÍ V SOUVISLOSTECH\nCyklus přednášek provede posluchače v chronologické posloupnosti vývojem výtvarného umění od nejstarších dob po současnost. Hledá v jeho tisícileté historii otázky\, na něž je třeba odpovědět\, chceme-li evropskému umění minulosti i přítomnosti rozumět. Všechny přednášky se opírají o bohatý obrazový materiál.\n \nJE BŮH V OBRAZU?\nCo mohlo křesťanské umění převzít z antiky? Potřebuje náboženský život umění? Je krása projevem Božím nebo nás od Boha odvádí? Lze uctívat obrazy? Dvojí evropská volba mezi nezobrazující a zobrazující formou: Nomádská a usedlá městská kultura. Ikonoklasmus a ikonodulie. Zákruty jejich zápasu.
LOCATION:Mělník
END:VEVENT
END:VCALENDAR