BEGIN:VCALENDAR
VERSION:2.0
CALSCALE:GREGORIAN
PRODID:-//MyApp//Calendar 1.0//EN
BEGIN:VEVENT
METHOD:PUBLISH
UID:37828@regionalniportaly.cz
DTSTAMP:20260421T221913Z
DTSTART;VALUE=DATE:20240116
DTEND;VALUE=DATE:20240117
SUMMARY:Souboj Titánů
DESCRIPTION:Začátek: 16. 1. 2024 | 19.00Konec: 16. 1. 2024 | 21.30Místo konání: divadelní sál MKDVstupné: 190 Kč\nKdo si znepřátelí Héru\, která nemilosrdně zneužívá svou absolutní moc\, toho zničí Héřin politický systém. Tak se vzdělaná a spravedlivá princezna Andromeda záhy ocitá na černé listině. Z lidem milované princezny se stává psanec. A Zeus? Toho zajímají jen milenky. Co krásná princezna zažije na útěku před Hérou\, kdo jí pomůže a jak celý příběh skončí?\n \nÚčinkuje Divadelní spolek Nové divadlo Mělník \nScénář\, hudba\, texty: Radek ŠlangalRežie: Milada Hluštíková\nAsistent režie\, choreografie: Adéla LíbalováScéna a kostýmy: Milada HluštíkováZvuk: Jaroslav Matějka\n  \nOsoby a obsazení:\nAndromeda: Alisa Gerstovskaya\, Anna DyntarováRamin van der Decken: Jakub Gabriel Rajnoch\, Tomáš BrychtaHéra: Klára Valášková\, Alisa GertsovskayaZeus\, Poseidon: Pavel SyrovýFeronike: Terezie Vránová\, Anežka FilousováSierra van der Decken: Anna Černá\, Anna DyntarováFilosof: Tomáš Felix\, Martin VávraHefaistos\, Inkvizitor: Alex Krátký\, Tomáš Brychta\, Christian Theodore FišerDefné\, Cháron: Adéla LíbalováMedúza: Daniel ŠimekPegas: Natálie Kudriová\, Adéla HavlákováHlas Chárona: Radek Šlangaldále účinkují: Pavla Švecová\, Jan Jakabovič\, Petra Kaluginová\nHvězdný host: Michal Bragagnolo coby hlas krále
LOCATION:Mělník
END:VEVENT
END:VCALENDAR