BEGIN:VCALENDAR
VERSION:2.0
CALSCALE:GREGORIAN
PRODID:-//MyApp//Calendar 1.0//EN
BEGIN:VEVENT
METHOD:PUBLISH
UID:37827@regionalniportaly.cz
DTSTAMP:20260422T000748Z
DTSTART;VALUE=DATE:20240108
DTEND;VALUE=DATE:20240109
SUMMARY:Po Jordánsku s batohem
DESCRIPTION:Začátek: 8. 1. 2024 | 18.00Konec: 8. 1. 2024 | 19.30Místo konání: hudební sál MKDVstupné: dospělí 100 Kč. studenti a senioři 70 Kč\n \nS batohem na zádech 250 km pěšky Jordánskem.\nPodíváme se do fascinující Petry\, přes poušť do kaňonů a skalních oblastí. Trek\, který je zařazen mezi 15 nejkrásnějších na světě. Poušť Wadi Rum\, skalní masívy čnící nad dunami\, beduíni\, příběh Lawrence z Arabie zde ožívá…\nMrtvé moře\, které pomalu\, ale jistě vysychá\, Rudé moře na jihu země. Zachovalé římské město Jerash\, posvátná hora Nebo\, kde zemřel Mojžíš\, pulsující orientální tržiště v Ammanu\, staré kostely v Madabě s mozaikovou mapou.\nJordánsko trochu jinak\, spousta překvapení a veselé příběhy.\n \nPřednáší cestovatelka Radka Tkáčiková
LOCATION:Mělník
END:VEVENT
END:VCALENDAR