BEGIN:VCALENDAR
VERSION:2.0
CALSCALE:GREGORIAN
PRODID:-//MyApp//Calendar 1.0//EN
BEGIN:VEVENT
METHOD:PUBLISH
UID:37825@regionalniportaly.cz
DTSTAMP:20260421T221853Z
DTSTART;VALUE=DATE:20231225
DTEND;VALUE=DATE:20231226
SUMMARY:MindGame –⁠ Líbezné vyhlídky
DESCRIPTION:Začátek: 25. 1. 2024 | 19.00Konec: 25. 1. 2024 | 20.50Místo konání: divadelní sál MKDVstupné: 420 Kč (Zvýhodněné vstupné v rámci předplatného 4 ze 7 je 380 Kč)\n \nDramatický thriller z psychiatrické léčebny pro sériové a masové vrahy je od začátku do konce plný napětí a nečekaných zvratů\, pikantně okořeněný černočerným humorem. Autor detektivních románů se pokouší od ředitele ústavu pro choromyslné získat souhlas k rozhovoru s proslulým zločincem\, který je zde držen\, nemá však ani ponětí\, do čeho se pouští. Brzy zjistí\, že zde nic není takové\, jak se zdá\, a vše je děsuplnější\, než si kdy dokázal představit.\n \nPředstavení StageArtCz\nAutor: Anthony HorowitzPřeklad: Dana HábováRežie: Petr HalberstadtHudba: Jan Matásek\n \nHrají:Miroslav Etzler\, Petr Halberstadt\, Gabriela Míčová\n \n 
LOCATION:Mělník
END:VEVENT
END:VCALENDAR