BEGIN:VCALENDAR
VERSION:2.0
CALSCALE:GREGORIAN
PRODID:-//MyApp//Calendar 1.0//EN
BEGIN:VEVENT
METHOD:PUBLISH
UID:37824@regionalniportaly.cz
DTSTAMP:20260421T221802Z
DTSTART;VALUE=DATE:20231228
DTEND;VALUE=DATE:20231229
SUMMARY:Princezna Myší kožíšek
DESCRIPTION:Začátek: 28. 1. 2024 | 15.00Konec: 28. 1. 2024 | 16.00Místo konání: divadelní sál MKDVstupné: 120 Kč\n \nPrincezna Lada je jediná princezna na světe\, která má na čele zlatou hvězdu. Proto po ní zatouží sice bohatý\, ale zlý a protivný král Kazisvět. Nešťastné Ladě nezbyde\, než se před ním skrýt v převleku z myších kůží a s pomocí dobrých přátel krále přelstít.\nPohádka je plná vtipných okamžiků\, veselých písniček a tanců.\nPohádka Divadelního spolku PRÁVĚ ZAČÍNÁME Horní Počernice\n 
LOCATION:Mělník
END:VEVENT
END:VCALENDAR