BEGIN:VCALENDAR
VERSION:2.0
CALSCALE:GREGORIAN
PRODID:-//MyApp//Calendar 1.0//EN
BEGIN:VEVENT
METHOD:PUBLISH
UID:37823@regionalniportaly.cz
DTSTAMP:20260422T001828Z
DTSTART;VALUE=DATE:20240130
DTEND;VALUE=DATE:20240131
SUMMARY:Halina Pawlowská: Manuál zralé žen
DESCRIPTION:Začátek: 30. 1. 2024 | 19.00Konec: 30. 1. 2024 | 21.30Místo konání: divadelní sál MKDVstupné: 450 Kč\n \nJedinečná talk-show Haliny Pawlowské míří do Mělníku.\nHalina Pawlowská je spisovatelka a scénáristka\, ale i výborná vypravěčka. Její zájezdové pořady jsou nabité humorem a nebrání se ani diskuzím s přítomným publikem. Její pořady mají výborný divácký ohlas.\n \nChcete být obletovaná\, krásná\, věčně mladá? Poslechněte si milostné příběhy\, které vás inspirují\, zasmějte se erotickým zkušenostem ostatních\, samy se zeptejte na všechno\, co vás zajímá a nechte si poradit! A hlavně se přijďte zasmát! Manuál zralé ženy je určen ženám od dvanácti do sta let\, je ale i pro muže\, protože právě díky manuálu budou lépe rozumět svým partnerkám a možná i sami sobě. Není nic špatného na tom být zralá žena\, i když slovo "zralá" mi připomíná sýr\, u kterého je nejvyšší čas ho zkonzumovat…\n \n Zralost je báječná! Buď z toho důvodu\, že si můžete gratulovat\, že jste se dožili už pěkného počtu let\, anebo proto\, že jste sice ještě velice mladí\, ale jste jedinci s moudrým pohledem na svět.
LOCATION:Mělník
END:VEVENT
END:VCALENDAR