BEGIN:VCALENDAR
VERSION:2.0
CALSCALE:GREGORIAN
PRODID:-//MyApp//Calendar 1.0//EN
BEGIN:VEVENT
METHOD:PUBLISH
UID:37821@regionalniportaly.cz
DTSTAMP:20260421T221720Z
DTSTART;VALUE=DATE:20240111
DTEND;VALUE=DATE:20240112
SUMMARY:Novoroční koncert Sing Sing Quintet
DESCRIPTION:Začátek: 11. 1. 2024 | 19.00Konec: 11. 1. 2024 | 20.30Místo konání: divadelní sál MKDVstupné: 599 Kč\n \nNovoroční koncert Sing Sing Quintet\nSváteční koncert pěti pěveckých osobností s výraznými a velkými hlasy.Naprosto nový hudební projekt\, který je založen na originálních hlasech zpěváků a písních v jedinečném pěveckém podání v barevných hlasových kombinacích. Ve skvělé režii celého koncertu si posluchači vychutnají originální zpracování krásných světových melodií\, muzikálových písní a tak zvaných srdcovkách\, hitech\, které jsou sice staršího data ale jsou nesmrtelné.\nDivák se pobaví a také si s umělci zazpívá písně od Karla Svobody\, Zdeňka Rytíře a dalších předních hudebních skladatelů.\n \nÚčinkují: Kamila Nývltová\, Bohuš Matuš\, Tomáš Trapl\, Michaela Nosková a Peter Pecha.
LOCATION:Mělník
END:VEVENT
END:VCALENDAR