BEGIN:VCALENDAR
VERSION:2.0
CALSCALE:GREGORIAN
PRODID:-//MyApp//Calendar 1.0//EN
BEGIN:VEVENT
METHOD:PUBLISH
UID:37820@regionalniportaly.cz
DTSTAMP:20260421T221820Z
DTSTART;VALUE=DATE:20240103
DTEND;VALUE=DATE:20240104
SUMMARY:Novoroční galakoncert souboru Musica Dolce Vita
DESCRIPTION:Výběr nejkrásnějších skladeb světových a českých autorů při příležitosti 15. jubilejní koncertní sezóny.\n \nZačátek: 3. 1. 2024 | 19.30Konec: 3. 1. 2024 | 21.00Místo konání: hudební sál MKDVstupné: 170 Kč\n \nÚčinkují:\nDaniela Demuthová – mezzosopránŽofie Vokálková – flétnaZbyňka Šolcová – harfa
LOCATION:Mělník
END:VEVENT
END:VCALENDAR