BEGIN:VCALENDAR
VERSION:2.0
CALSCALE:GREGORIAN
PRODID:-//MyApp//Calendar 1.0//EN
BEGIN:VEVENT
METHOD:PUBLISH
UID:37786@regionalniportaly.cz
DTSTAMP:20260421T221903Z
DTSTART;VALUE=DATE:20240119
DTEND;VALUE=DATE:20240120
SUMMARY:Ecstatic Dance - Tančící srdce
DESCRIPTION:Jste srdečně zváni na další protančený večer a to první&nbsp\;v novém roce 2024ECSTATIC DANCE - tančící srdce v LitoměřicíchDj Martin Palla (Svitavy)Večerem vás provedou Venus &amp\; Šárka&nbsp\;&amp\; MíšaNa začátku se společně naladíme na tanec\, poté vás 2h tanečním setem provede náš oblíbený skvělý DJ Martin Palla\, v závěrečné fázi bude pár minutová relaxace Sound healing s handpan nástrojem.V příjemném klubu ve vyladěném vyzdobeném prostoru\, s malým pohoštěním (voda\, ovoce)&nbsp\;Máte se na co těšít :-)&nbsp\;DJ Martin Palla: &nbsp\;zakladatel projektu Ecstatic Dance Svitavy. Hudba a tanec jsou pro mě nejen koníčkem\, ale i životním posláním. Ecstatic Dance je pro mě naplněním mého snu\, protože v něm mohu propojit všechno\, co jsem se na své cestě naučil a zažil. Tvorba a mixování hudby\, hraní na živé nástroje\, osobní rozvoj\, šamanismus\, zpěv a setkávání se s inspirativními lidmi – to vše je pro mě zdrojem radosti a hloubky.&nbsp\;&nbsp\;Skladby pečlivě vybírám několik dní\, jednotlivé části skládám dohromady jako příběh - taneční cestu\, která tě provede tancem tvé duše. Vidím v tom jakýsi prazáklad z naší dávné minulosti\, který nás všechny spojuje. Rytmy bubnů a šamanství jsou univerzálním jazykem\, smyslem\, naplněním a vyživením se\, znovunapojením na svou podstatu. martintpalla.czEcstatic dance je tanec bez alkoholu a drog. V příjemném klubu\, ve vyladěném vyzdobeném prostoru\, s malým občerstvením&nbsp\;(voda\, ovoce)&nbsp\;&nbsp\;S sebou pohodlné oblečení.Adresa: Vinyl Club\, Kamýcká 1090/12\, LitoměřiceTěšíme se na vásVenus &amp\; Šárka &amp\; Míša&nbsp\;&amp\; DJ Martin Palla
LOCATION:Litoměřice
END:VEVENT
END:VCALENDAR