BEGIN:VCALENDAR
VERSION:2.0
CALSCALE:GREGORIAN
PRODID:-//MyApp//Calendar 1.0//EN
BEGIN:VEVENT
METHOD:PUBLISH
UID:37741@regionalniportaly.cz
DTSTAMP:20260421T221619Z
DTSTART;VALUE=DATE:20240113
DTEND;VALUE=DATE:20240114
SUMMARY:Syrečkový flám (Gott revival)
DESCRIPTION:Tradiční gurmánský večírek s hudbou.K syrečkům\, poslechu\, tanci\, pivu i limu bude hrát legendární pražská underground-psychadelic-šraml-punková kapela hrající ČS hity z 60. a 70. let - GOTT REVIVAL!!!Vlastní kulinární výtvory jsou tradičně velmi kvitovány.www.facebook.com/gott.revival
LOCATION:Litoměřice
END:VEVENT
END:VCALENDAR