BEGIN:VCALENDAR
VERSION:2.0
CALSCALE:GREGORIAN
PRODID:-//MyApp//Calendar 1.0//EN
BEGIN:VEVENT
METHOD:PUBLISH
UID:37139@regionalniportaly.cz
DTSTAMP:20260421T235652Z
DTSTART;VALUE=DATE:20240309
DTEND;VALUE=DATE:20240310
SUMMARY:VIII. Reprezentační ples města Čelákovic
DESCRIPTION:Tradiční ples města za doprovodu big bandu Felixe Slováčka\, moderuje Karel Kašák.
LOCATION:Čelákovice
END:VEVENT
END:VCALENDAR