BEGIN:VCALENDAR
VERSION:2.0
CALSCALE:GREGORIAN
PRODID:-//MyApp//Calendar 1.0//EN
BEGIN:VEVENT
METHOD:PUBLISH
UID:37063@regionalniportaly.cz
DTSTAMP:20260421T203751Z
DTSTART;VALUE=DATE:20231208
DTEND;VALUE=DATE:20231209
SUMMARY:ECHT!
DESCRIPTION:Legendární pubrocková kapela Echt! slaví 35 let na scéně!!!
LOCATION:Litoměřice
END:VEVENT
END:VCALENDAR