BEGIN:VCALENDAR
VERSION:2.0
CALSCALE:GREGORIAN
PRODID:-//MyApp//Calendar 1.0//EN
BEGIN:VEVENT
METHOD:PUBLISH
UID:36911@regionalniportaly.cz
DTSTAMP:20260421T204638Z
DTSTART;VALUE=DATE:20231207
DTEND;VALUE=DATE:20231208
SUMMARY:Show Dr. Ruth
DESCRIPTION:„Zeptejte se doktorky Ruth na cokoliv\, co chcete vědět o&nbsp\;sexu“Životopisná divadelní hra&nbsp\;Marka St. Germaina Becoming Dr. Ruth&nbsp\;(průkopnice sexuální terapie)\, která se stala nejslavnější americkou sexuální terapeutkou. Představení DIVADLA V ŘEZNICKÉS humorem a KATEŘINOU MACHÁČKOVOU.
LOCATION:Bělá pod Bezdězem
END:VEVENT
END:VCALENDAR