BEGIN:VCALENDAR
VERSION:2.0
CALSCALE:GREGORIAN
PRODID:-//MyApp//Calendar 1.0//EN
BEGIN:VEVENT
METHOD:PUBLISH
UID:36752@regionalniportaly.cz
DTSTAMP:20260421T204628Z
DTSTART;VALUE=DATE:20231208
DTEND;VALUE=DATE:20231209
SUMMARY:Ecstatic Dance - Tančící srdce
DESCRIPTION:Jste srdečně zváni na další protančený&nbsp\;večerECSTATIC DANCE - tančící srdce v LitoměřicíchDj JOBBI TAOVečerem vás provedou Venus &amp\; Šárka&nbsp\;&amp\; MíšaNa začátku se společně naladíme na tanec\, poté vás 2h tanečním setem provede další náš oblíbený skvělý DJ JOBBI TAO\, v závěrečné fázi bude pár minutová relaxace Sound healing.Ecstatic dance je tanec bez alkoholu a drog.Na místě bude k dispozici voda a malé ovocné občerstvení. S sebou pohodlné oblečení.Adresa: Vinyl Club\, Kamýcká 1090/12\, Litoměřice (dům-vchod do klubu je přímo na křižovatce\, venku bude vyvešen na zdi domu plakát akce)DJ JOBBI TAOS DJingem začal v roce 2000. Hudba jej dovedla přes kluby a festivaly až k Ecstatic Dance. Jeho sluneční energie a pečlivá hudební selekce pravidelně dovádí milovníky spontánního tance z klidu do taneční extáze a zpět. Hojně se věnuje vlastní produkci\, provází pohybovými workshopy. Věří\, že život je tanec a náš tanec je tedy organickou oslavou samotného života. Jobbi miluje roztančit lidi a společně oslavovat v radosti a svobodě. Zbožňuje ono magické propojení\, které skrze hudbu a tanec vzniká."Tanec jako ceremonie\, hudba jako modlitba\, zpěv jako extáze naší duše. V jednom přirozeném plynutí. Společně na parketu života.“těšíme se na vástým ED Tančící srdce&nbsp\; &amp\; DJ JOBBI TAO&nbsp\;
LOCATION:Litoměřice
END:VEVENT
END:VCALENDAR